BEGIN:VCALENDAR
VERSION:2.0
PRODID:-//81.201.148.31//NONSGML kigkonsult.se iCalcreator 2.41.92//
CALSCALE:GREGORIAN
METHOD:PUBLISH
UID:31353865-3330-4733-b662-323962386531
X-WR-CALNAME:KOKOS IMPORT Theatertermine
X-WR-CALDESC:
X-WR-TIMEZONE:Europe/Berlin
BEGIN:VEVENT
UID:61613661-3262-4734-b462-326132383266
DTSTAMP:20260423T093939Z
DESCRIPTION:
DTSTART:20260603T180000
DTEND:20260603T190000
SUMMARY:Wort & Orgelklang
END:VEVENT
END:VCALENDAR
