BEGIN:VCALENDAR
VERSION:2.0
PRODID:-//81.201.148.31//NONSGML kigkonsult.se iCalcreator 2.41.92//
CALSCALE:GREGORIAN
METHOD:PUBLISH
UID:38356464-6364-4832-b634-653664376134
X-WR-CALNAME:KOKOS IMPORT Theatertermine
X-WR-CALDESC:
X-WR-TIMEZONE:Europe/Berlin
BEGIN:VEVENT
UID:37613934-3861-4335-a365-356534653864
DTSTAMP:20260423T105121Z
DESCRIPTION:
DTSTART:20260608T180000
DTEND:20260608T190000
SUMMARY:Wort & Orgelklang
END:VEVENT
END:VCALENDAR
