BEGIN:VCALENDAR
VERSION:2.0
PRODID:-//81.201.148.31//NONSGML kigkonsult.se iCalcreator 2.41.92//
CALSCALE:GREGORIAN
METHOD:PUBLISH
UID:64303832-6133-4438-a538-306236643634
X-WR-CALNAME:KOKOS IMPORT Theatertermine
X-WR-CALDESC:
X-WR-TIMEZONE:Europe/Berlin
BEGIN:VEVENT
UID:32373933-3464-4634-a366-356137383235
DTSTAMP:20260423T094736Z
DESCRIPTION:
DTSTART:20260609T180000
DTEND:20260609T190000
SUMMARY:Wort & Orgelklang
END:VEVENT
END:VCALENDAR
