BEGIN:VCALENDAR
VERSION:2.0
PRODID:-//81.201.148.31//NONSGML kigkonsult.se iCalcreator 2.41.92//
CALSCALE:GREGORIAN
METHOD:PUBLISH
UID:63326662-6166-4232-b563-393138613837
X-WR-CALNAME:KOKOS IMPORT Theatertermine
X-WR-CALDESC:
X-WR-TIMEZONE:Europe/Berlin
BEGIN:VEVENT
UID:36643566-6630-4064-b538-343034626234
DTSTAMP:20260423T094801Z
DESCRIPTION:
DTSTART:20260610T180000
DTEND:20260610T190000
SUMMARY:Wort & Orgelklang
END:VEVENT
END:VCALENDAR
