BEGIN:VCALENDAR
VERSION:2.0
PRODID:-//81.201.148.31//NONSGML kigkonsult.se iCalcreator 2.41.92//
CALSCALE:GREGORIAN
METHOD:PUBLISH
UID:64626261-3634-4432-b638-626537306666
X-WR-CALNAME:KOKOS IMPORT Theatertermine
X-WR-CALDESC:
X-WR-TIMEZONE:Europe/Berlin
BEGIN:VEVENT
UID:34373639-3132-4930-a137-373835613034
DTSTAMP:20260423T094755Z
DESCRIPTION:
DTSTART:20260616T180000
DTEND:20260616T190000
SUMMARY:Wort & Orgelklang
END:VEVENT
END:VCALENDAR
