BEGIN:VCALENDAR
VERSION:2.0
PRODID:-//81.201.148.31//NONSGML kigkonsult.se iCalcreator 2.41.92//
CALSCALE:GREGORIAN
METHOD:PUBLISH
UID:63363438-3530-4831-b739-393066326433
X-WR-CALNAME:KOKOS IMPORT Theatertermine
X-WR-CALDESC:
X-WR-TIMEZONE:Europe/Berlin
BEGIN:VEVENT
UID:34306433-6638-4232-a335-663235353765
DTSTAMP:20260423T095009Z
DESCRIPTION:
DTSTART:20260617T180000
DTEND:20260617T190000
SUMMARY:Wort & Orgelklang
END:VEVENT
END:VCALENDAR
