BEGIN:VCALENDAR
VERSION:2.0
PRODID:-//81.201.148.31//NONSGML kigkonsult.se iCalcreator 2.41.92//
CALSCALE:GREGORIAN
METHOD:PUBLISH
UID:64386261-3239-4565-a633-333239386563
X-WR-CALNAME:KOKOS IMPORT Theatertermine
X-WR-CALDESC:
X-WR-TIMEZONE:Europe/Berlin
BEGIN:VEVENT
UID:65636136-3463-4435-b566-653162623435
DTSTAMP:20260423T112320Z
DESCRIPTION:
DTSTART:20260622T180000
DTEND:20260622T190000
SUMMARY:Wort & Orgelklang
END:VEVENT
END:VCALENDAR
