BEGIN:VCALENDAR
VERSION:2.0
PRODID:-//81.201.148.31//NONSGML kigkonsult.se iCalcreator 2.41.92//
CALSCALE:GREGORIAN
METHOD:PUBLISH
UID:37663866-3964-4235-b237-646633656434
X-WR-CALNAME:KOKOS IMPORT Theatertermine
X-WR-CALDESC:
X-WR-TIMEZONE:Europe/Berlin
BEGIN:VEVENT
UID:38323062-3164-4064-a638-356662356133
DTSTAMP:20260423T094141Z
DESCRIPTION:
DTSTART:20260623T180000
DTEND:20260623T190000
SUMMARY:Wort & Orgelklang
END:VEVENT
END:VCALENDAR
