BEGIN:VCALENDAR
VERSION:2.0
PRODID:-//81.201.148.31//NONSGML kigkonsult.se iCalcreator 2.41.92//
CALSCALE:GREGORIAN
METHOD:PUBLISH
UID:64336330-3036-4436-b766-316438363639
X-WR-CALNAME:KOKOS IMPORT Theatertermine
X-WR-CALDESC:
X-WR-TIMEZONE:Europe/Berlin
BEGIN:VEVENT
UID:65666333-3562-4230-a532-663130376565
DTSTAMP:20260423T093907Z
DESCRIPTION:
DTSTART:20260624T180000
DTEND:20260624T190000
SUMMARY:Wort & Orgelklang
END:VEVENT
END:VCALENDAR
