BEGIN:VCALENDAR
VERSION:2.0
PRODID:-//81.201.148.31//NONSGML kigkonsult.se iCalcreator 2.41.92//
CALSCALE:GREGORIAN
METHOD:PUBLISH
UID:64333564-3638-4462-a562-636338346330
X-WR-CALNAME:KOKOS IMPORT Theatertermine
X-WR-CALDESC:
X-WR-TIMEZONE:Europe/Berlin
BEGIN:VEVENT
UID:33656533-3365-4266-b739-333037386136
DTSTAMP:20260423T094206Z
DESCRIPTION:
DTSTART:20260629T180000
DTEND:20260629T190000
SUMMARY:Wort & Orgelklang
END:VEVENT
END:VCALENDAR
