BEGIN:VCALENDAR
VERSION:2.0
PRODID:-//81.201.148.31//NONSGML kigkonsult.se iCalcreator 2.41.92//
CALSCALE:GREGORIAN
METHOD:PUBLISH
UID:30393331-3334-4731-b435-613734616261
X-WR-CALNAME:KOKOS IMPORT Theatertermine
X-WR-CALDESC:
X-WR-TIMEZONE:Europe/Berlin
BEGIN:VEVENT
UID:36393938-6430-4636-a266-376436643564
DTSTAMP:20260423T094818Z
DESCRIPTION:
DTSTART:20260630T180000
DTEND:20260630T190000
SUMMARY:Wort & Orgelklang
END:VEVENT
END:VCALENDAR
