BEGIN:VCALENDAR
VERSION:2.0
PRODID:-//81.201.148.31//NONSGML kigkonsult.se iCalcreator 2.41.92//
CALSCALE:GREGORIAN
METHOD:PUBLISH
UID:64346362-6532-4961-b130-393030376462
X-WR-CALNAME:KOKOS IMPORT Theatertermine
X-WR-CALDESC:
X-WR-TIMEZONE:Europe/Berlin
BEGIN:VEVENT
UID:61646133-3466-4336-a238-353635363835
DTSTAMP:20260423T105421Z
DESCRIPTION:
DTSTART:20260701T180000
DTEND:20260701T190000
SUMMARY:Wort & Orgelklang
END:VEVENT
END:VCALENDAR
