BEGIN:VCALENDAR
VERSION:2.0
PRODID:-//81.201.148.31//NONSGML kigkonsult.se iCalcreator 2.41.92//
CALSCALE:GREGORIAN
METHOD:PUBLISH
UID:34373135-3734-4765-a362-633664356433
X-WR-CALNAME:KOKOS IMPORT Theatertermine
X-WR-CALDESC:
X-WR-TIMEZONE:Europe/Berlin
BEGIN:VEVENT
UID:32326565-6461-4438-a465-373466306262
DTSTAMP:20260423T105251Z
DESCRIPTION:
DTSTART:20260706T180000
DTEND:20260706T190000
SUMMARY:Wort & Orgelklang
END:VEVENT
END:VCALENDAR
