BEGIN:VCALENDAR
VERSION:2.0
PRODID:-//81.201.148.31//NONSGML kigkonsult.se iCalcreator 2.41.92//
CALSCALE:GREGORIAN
METHOD:PUBLISH
UID:62363366-3266-4662-a166-303761396533
X-WR-CALNAME:KOKOS IMPORT Theatertermine
X-WR-CALDESC:
X-WR-TIMEZONE:Europe/Berlin
BEGIN:VEVENT
UID:32316334-3934-4338-b332-353866633933
DTSTAMP:20260421T085510Z
DESCRIPTION:
DTSTART:20260708T180000
DTEND:20260708T190000
SUMMARY:Wort & Orgelklang
END:VEVENT
END:VCALENDAR
