BEGIN:VCALENDAR
VERSION:2.0
PRODID:-//81.201.148.31//NONSGML kigkonsult.se iCalcreator 2.41.92//
CALSCALE:GREGORIAN
METHOD:PUBLISH
UID:39343363-3935-4630-b630-353433653061
X-WR-CALNAME:KOKOS IMPORT Theatertermine
X-WR-CALDESC:
X-WR-TIMEZONE:Europe/Berlin
BEGIN:VEVENT
UID:31343038-6665-4534-a130-363164653937
DTSTAMP:20260421T151429Z
DESCRIPTION:
DTSTART:20260714T180000
DTEND:20260714T190000
SUMMARY:Wort & Orgelklang
END:VEVENT
END:VCALENDAR
