BEGIN:VCALENDAR
VERSION:2.0
PRODID:-//81.201.148.31//NONSGML kigkonsult.se iCalcreator 2.41.92//
CALSCALE:GREGORIAN
METHOD:PUBLISH
UID:61656332-6537-4236-a162-386337363630
X-WR-CALNAME:KOKOS IMPORT Theatertermine
X-WR-CALDESC:
X-WR-TIMEZONE:Europe/Berlin
BEGIN:VEVENT
UID:31306231-3235-4139-a635-643266313631
DTSTAMP:20260421T164356Z
DESCRIPTION:
DTSTART:20260715T180000
DTEND:20260715T190000
SUMMARY:Wort & Orgelklang
END:VEVENT
END:VCALENDAR
