BEGIN:VCALENDAR
VERSION:2.0
PRODID:-//81.201.148.31//NONSGML kigkonsult.se iCalcreator 2.41.92//
CALSCALE:GREGORIAN
METHOD:PUBLISH
UID:35383863-3263-4139-b066-636631376538
X-WR-CALNAME:KOKOS IMPORT Theatertermine
X-WR-CALDESC:
X-WR-TIMEZONE:Europe/Berlin
BEGIN:VEVENT
UID:34646264-3164-4564-b432-643031393034
DTSTAMP:20260423T094030Z
DESCRIPTION:
DTSTART:20260803T180000
DTEND:20260803T190000
SUMMARY:Wort & Orgelklang
END:VEVENT
END:VCALENDAR
