BEGIN:VCALENDAR
VERSION:2.0
PRODID:-//81.201.148.31//NONSGML kigkonsult.se iCalcreator 2.41.92//
CALSCALE:GREGORIAN
METHOD:PUBLISH
UID:38623233-3862-4239-a264-643130363762
X-WR-CALNAME:KOKOS IMPORT Theatertermine
X-WR-CALDESC:
X-WR-TIMEZONE:Europe/Berlin
BEGIN:VEVENT
UID:63383965-6263-4232-a237-353231626537
DTSTAMP:20260423T093945Z
DESCRIPTION:
DTSTART:20260804T180000
DTEND:20260804T190000
SUMMARY:Wort & Orgelklang
END:VEVENT
END:VCALENDAR
