BEGIN:VCALENDAR
VERSION:2.0
PRODID:-//81.201.148.31//NONSGML kigkonsult.se iCalcreator 2.41.92//
CALSCALE:GREGORIAN
METHOD:PUBLISH
UID:33373630-3537-4337-a164-346232613932
X-WR-CALNAME:KOKOS IMPORT Theatertermine
X-WR-CALDESC:
X-WR-TIMEZONE:Europe/Berlin
BEGIN:VEVENT
UID:39396438-3061-4339-a533-393466363236
DTSTAMP:20260423T093909Z
DESCRIPTION:
DTSTART:20260908T180000
DTEND:20260908T190000
SUMMARY:Wort & Orgelklang
END:VEVENT
END:VCALENDAR
