BEGIN:VCALENDAR
VERSION:2.0
PRODID:-//81.201.148.31//NONSGML kigkonsult.se iCalcreator 2.41.92//
CALSCALE:GREGORIAN
METHOD:PUBLISH
UID:61633165-3764-4037-a537-313938636131
X-WR-CALNAME:KOKOS IMPORT Theatertermine
X-WR-CALDESC:
X-WR-TIMEZONE:Europe/Berlin
BEGIN:VEVENT
UID:63363231-3235-4837-b335-363730333933
DTSTAMP:20260423T094051Z
DESCRIPTION:
DTSTART:20260909T180000
DTEND:20260909T190000
SUMMARY:Wort & Orgelklang
END:VEVENT
END:VCALENDAR
