BEGIN:VCALENDAR
VERSION:2.0
PRODID:-//81.201.148.31//NONSGML kigkonsult.se iCalcreator 2.41.92//
CALSCALE:GREGORIAN
METHOD:PUBLISH
UID:62373736-3763-4933-b462-636136323962
X-WR-CALNAME:KOKOS IMPORT Theatertermine
X-WR-CALDESC:
X-WR-TIMEZONE:Europe/Berlin
BEGIN:VEVENT
UID:31383466-3438-4230-b166-336166313532
DTSTAMP:20260423T105219Z
DESCRIPTION:
DTSTART:20260914T180000
DTEND:20260914T190000
SUMMARY:Wort & Orgelklang
END:VEVENT
END:VCALENDAR
