BEGIN:VCALENDAR
VERSION:2.0
PRODID:-//81.201.148.31//NONSGML kigkonsult.se iCalcreator 2.41.92//
CALSCALE:GREGORIAN
METHOD:PUBLISH
UID:39633164-3931-4032-b235-396364633336
X-WR-CALNAME:KOKOS IMPORT Theatertermine
X-WR-CALDESC:
X-WR-TIMEZONE:Europe/Berlin
BEGIN:VEVENT
UID:36633733-6466-4333-b831-333162313038
DTSTAMP:20260423T093940Z
DESCRIPTION:
DTSTART:20260915T180000
DTEND:20260915T190000
SUMMARY:Wort & Orgelklang
END:VEVENT
END:VCALENDAR
