BEGIN:VCALENDAR
VERSION:2.0
PRODID:-//81.201.148.31//NONSGML kigkonsult.se iCalcreator 2.41.92//
CALSCALE:GREGORIAN
METHOD:PUBLISH
UID:34323431-3837-4234-a336-363333373637
X-WR-CALNAME:KOKOS IMPORT Theatertermine
X-WR-CALDESC:
X-WR-TIMEZONE:Europe/Berlin
BEGIN:VEVENT
UID:39353033-6361-4735-a463-636466363565
DTSTAMP:20260423T105250Z
DESCRIPTION:
DTSTART:20260916T180000
DTEND:20260916T190000
SUMMARY:Wort & Orgelklang
END:VEVENT
END:VCALENDAR
