BEGIN:VCALENDAR
VERSION:2.0
PRODID:-//81.201.148.31//NONSGML kigkonsult.se iCalcreator 2.41.92//
CALSCALE:GREGORIAN
METHOD:PUBLISH
UID:65336130-6334-4535-b331-326334313335
X-WR-CALNAME:KOKOS IMPORT Theatertermine
X-WR-CALDESC:
X-WR-TIMEZONE:Europe/Berlin
BEGIN:VEVENT
UID:65633930-3532-4330-b336-363461313563
DTSTAMP:20260423T094735Z
DESCRIPTION:
DTSTART:20260921T180000
DTEND:20260921T190000
SUMMARY:Wort & Orgelklang
END:VEVENT
END:VCALENDAR
