BEGIN:VCALENDAR
VERSION:2.0
PRODID:-//81.201.148.31//NONSGML kigkonsult.se iCalcreator 2.41.92//
CALSCALE:GREGORIAN
METHOD:PUBLISH
UID:32366164-6461-4464-a662-396531343135
X-WR-CALNAME:KOKOS IMPORT Theatertermine
X-WR-CALDESC:
X-WR-TIMEZONE:Europe/Berlin
BEGIN:VEVENT
UID:64353238-3938-4563-b239-346630346266
DTSTAMP:20260420T083443Z
DESCRIPTION:
DTSTART:20261026T180000
DTEND:20261026T190000
SUMMARY:Wort & Orgelklang
END:VEVENT
END:VCALENDAR
