BEGIN:VCALENDAR
VERSION:2.0
PRODID:-//81.201.148.31//NONSGML kigkonsult.se iCalcreator 2.41.92//
CALSCALE:GREGORIAN
METHOD:PUBLISH
UID:38373230-6332-4636-b563-633933333365
X-WR-CALNAME:KOKOS IMPORT Theatertermine
X-WR-CALDESC:
X-WR-TIMEZONE:Europe/Berlin
BEGIN:VEVENT
UID:30656431-3065-4265-b336-303864663335
DTSTAMP:20260421T090241Z
DESCRIPTION:
DTSTART:20261130T193000
DTEND:20261130T213000
SUMMARY:Xmas Brass  – Bläsermusik vom Feinsten
END:VEVENT
END:VCALENDAR
