BEGIN:VCALENDAR
VERSION:2.0
PRODID:-//81.201.148.31//NONSGML kigkonsult.se iCalcreator 2.41.92//
CALSCALE:GREGORIAN
METHOD:PUBLISH
UID:37386630-6334-4362-b166-653636316337
X-WR-CALNAME:KOKOS IMPORT Theatertermine
X-WR-CALDESC:
X-WR-TIMEZONE:Europe/Berlin
BEGIN:VEVENT
UID:32656435-3763-4633-a539-313032326233
DTSTAMP:20260421T194810Z
DESCRIPTION:
DTSTART:20260703T193000
DTEND:20260703T213000
SUMMARY:ZEITREISE – Baroque goes Pop
END:VEVENT
END:VCALENDAR
